BEGIN:VCALENDAR
VERSION:2.0
PRODID:-//LDFI - ECPv6.0.12//NONSGML v1.0//EN
CALSCALE:GREGORIAN
METHOD:PUBLISH
X-ORIGINAL-URL:https://linkeddigitalfuture.ca
X-WR-CALDESC:Events for LDFI
REFRESH-INTERVAL;VALUE=DURATION:PT1H
X-Robots-Tag:noindex
X-PUBLISHED-TTL:PT1H
BEGIN:VTIMEZONE
TZID:America/Toronto
BEGIN:DAYLIGHT
TZOFFSETFROM:-0500
TZOFFSETTO:-0400
TZNAME:EDT
DTSTART:20210314T070000
END:DAYLIGHT
BEGIN:STANDARD
TZOFFSETFROM:-0400
TZOFFSETTO:-0500
TZNAME:EST
DTSTART:20211107T060000
END:STANDARD
END:VTIMEZONE
BEGIN:VEVENT
DTSTART;TZID=America/Toronto:20210330T150000
DTEND;TZID=America/Toronto:20210330T160000
DTSTAMP:20260421T033255
CREATED:20210317T212105Z
LAST-MODIFIED:20210317T212105Z
UID:2370-1617116400-1617120000@linkeddigitalfuture.ca
SUMMARY:Wikidata "Office Hours"
DESCRIPTION:In the last year\, in addition to delivering a series of Wikidata workshops with La Cogency and Conseil québécois du théâtre\, CAPACOA invited arts organizations to participate in digital discoverability activities. We collected basic information about organizations\, which we then populated in Wikidata and in the Artstdata knowledge graph. \nThis “office hours” event was scheduled to give participants an opportunity to explore their Wikidata items and to enrich them with more organization information\, such as social media accounts and holders of leadership positions. \nThe office hour is open to “drop-ins”. Anyone is welcome. \nIf you don’t already have a Wikidata or Wikipedia account\, you should create an account. Your username should not be related to your organization. Even though Wikidata is an important part of an organization’s digital discoverability strategy (see this post)\, it is not a promotional space. \nOffice hour facilitator: Frédéric Julien \nRegistration link
URL:https://linkeddigitalfuture.ca/event/wikidata-office-hours-21-03-30/
LOCATION:Zoom – Link will be emailed upon registering.
ATTACH;FMTTYPE=image/png:https://linkeddigitalfuture.ca/wp-content/uploads/2021/03/welcome_to_wikidata.png
END:VEVENT
END:VCALENDAR