BEGIN:VCALENDAR
VERSION:2.0
PRODID:-//LDFI - ECPv6.0.12//NONSGML v1.0//EN
CALSCALE:GREGORIAN
METHOD:PUBLISH
X-WR-CALNAME:LDFI
X-ORIGINAL-URL:https://linkeddigitalfuture.ca
X-WR-CALDESC:Events for LDFI
REFRESH-INTERVAL;VALUE=DURATION:PT1H
X-Robots-Tag:noindex
X-PUBLISHED-TTL:PT1H
BEGIN:VTIMEZONE
TZID:America/Toronto
BEGIN:DAYLIGHT
TZOFFSETFROM:-0500
TZOFFSETTO:-0400
TZNAME:EDT
DTSTART:20200308T070000
END:DAYLIGHT
BEGIN:STANDARD
TZOFFSETFROM:-0400
TZOFFSETTO:-0500
TZNAME:EST
DTSTART:20201101T060000
END:STANDARD
END:VTIMEZONE
BEGIN:VEVENT
DTSTART;TZID=America/Toronto:20200604T090000
DTEND;TZID=America/Toronto:20200604T110000
DTSTAMP:20260421T234704
CREATED:20200529T135915Z
LAST-MODIFIED:20200529T142054Z
UID:1359-1591261200-1591268400@linkeddigitalfuture.ca
SUMMARY:Workshop - Harmonizing Data Modelling Practices in the Performing Arts
DESCRIPTION:The workshop is intended for representatives of performing arts archives and platforms as well as other people interested in harmonizing data modelling practices in the field of the performing arts at an international level. An overview of existing data models can be found here. \nThe objective of the workshop is to: \n\nProvide an overview of existing data models\, discuss similarities and differences\, identify a common core (~90 minutes)\nDiscuss the question of how best to structure the harmonization process (~30 minutes)\n\nRepresentatives of institutions with their own data will be asked to provide an overview of their current data model. The workshop will take place on Zoom. If you are planning to attend the workshop\, please get in touch with Birk Weiberg (birk.weiberg@sapa.swiss).
URL:https://linkeddigitalfuture.ca/event/workshop-harmonizing-data-modelling-practices-in-the-performing-arts/
LOCATION:Zoom – Link will be emailed upon registering.
ATTACH;FMTTYPE=image/jpeg:https://linkeddigitalfuture.ca/wp-content/uploads/2020/05/Harmonizing-Data-Modelling-Practices-in-the-Performing-Arts.V2.jpg
ORGANIZER;CN="Swiss%20Performing%20Arts%20Platform":MAILTO:birk.weiberg@sapa.swiss
END:VEVENT
END:VCALENDAR