BEGIN:VCALENDAR
VERSION:2.0
PRODID:-//LDFI - ECPv6.0.12//NONSGML v1.0//EN
CALSCALE:GREGORIAN
METHOD:PUBLISH
X-WR-CALNAME:LDFI
X-ORIGINAL-URL:https://linkeddigitalfuture.ca
X-WR-CALDESC:Events for LDFI
REFRESH-INTERVAL;VALUE=DURATION:PT1H
X-Robots-Tag:noindex
X-PUBLISHED-TTL:PT1H
BEGIN:VTIMEZONE
TZID:America/Toronto
BEGIN:DAYLIGHT
TZOFFSETFROM:-0500
TZOFFSETTO:-0400
TZNAME:EDT
DTSTART:20220313T070000
END:DAYLIGHT
BEGIN:STANDARD
TZOFFSETFROM:-0400
TZOFFSETTO:-0500
TZNAME:EST
DTSTART:20221106T060000
END:STANDARD
END:VTIMEZONE
BEGIN:VEVENT
DTSTART;VALUE=DATE:20221110
DTEND;VALUE=DATE:20221111
DTSTAMP:20260419T152852
CREATED:20221013T192757Z
LAST-MODIFIED:20221025T212832Z
UID:4281-1668038400-1668124799@linkeddigitalfuture.ca
SUMMARY:Raising an Artist Profile with Wikidata
DESCRIPTION:  \nJoin CAPACOA’s Linked Digital Future Initiative (LDFI)\, the Indigenous Performing Arts Alliance (IPAA) and the Manitoba Arts Network (MAN) for a step-by-step Wikidata workshop. This free\, expert-led workshop will focus mainly on Indigenous artists. \n  \nAs a free and open knowledge base linked to Wikipedia\, Wikidata is therefore a trusted source of information for Google\, Bing and other search engines. In this workshop\, participants will learn how to maximize their discoverability by either creating or enriching their own entry. \n  \nParticipants may register to attend either Session A or Session B. Both sessions will cover the exact same material. \n  \nSession A: Thursday November 10 2022 at 2:00 pm CST | 3:00 pm EST \nSession B: Thursday November 10 2022 at 5:00 pm CST | 6:00 pm EST \n  \nThis event is aimed primarily at IPAA members and MAN’s RBC Emerging Artists Program. However\, it will be relevant for anyone wishing to learn how to create and enhance an artist entry in Wikidata. Anyone is welcome to attend! No previous experience of Wikidata is required.
URL:https://linkeddigitalfuture.ca/event/man-ipaa-wikidata-workshop/
LOCATION:Zoom – Link will be emailed upon registering.
ATTACH;FMTTYPE=image/jpeg:https://linkeddigitalfuture.ca/wp-content/uploads/2022/10/MAN-IPAA-Event-Banner-1110x475-1.jpg
END:VEVENT
END:VCALENDAR