BEGIN:VCALENDAR
VERSION:2.0
PRODID:-//LDFI - ECPv6.0.12//NONSGML v1.0//EN
CALSCALE:GREGORIAN
METHOD:PUBLISH
X-WR-CALNAME:LDFI
X-ORIGINAL-URL:https://linkeddigitalfuture.ca
X-WR-CALDESC:Events for LDFI
REFRESH-INTERVAL;VALUE=DURATION:PT1H
X-Robots-Tag:noindex
X-PUBLISHED-TTL:PT1H
BEGIN:VTIMEZONE
TZID:America/Toronto
BEGIN:DAYLIGHT
TZOFFSETFROM:-0500
TZOFFSETTO:-0400
TZNAME:EDT
DTSTART:20220313T070000
END:DAYLIGHT
BEGIN:STANDARD
TZOFFSETFROM:-0400
TZOFFSETTO:-0500
TZNAME:EST
DTSTART:20221106T060000
END:STANDARD
END:VTIMEZONE
BEGIN:VEVENT
DTSTART;TZID=America/Toronto:20221007T140000
DTEND;TZID=America/Toronto:20221007T144500
DTSTAMP:20260419T170501
CREATED:20220926T154023Z
LAST-MODIFIED:20220928T150041Z
UID:4212-1665151200-1665153900@linkeddigitalfuture.ca
SUMMARY:Digital Discoverability Program Information Session
DESCRIPTION:  \nIn 2022\, it is no longer enough for arts organizations to have a simple events page on their website. To be discoverable on search engines (ex: Google\, Bing) and recommendation systems (ex: Siri\, Alexa)\, these events also need to meet Web 3.0 requirements. \n  \nThrough the 2022-2023 Digital Discoverability Program\, the Linked Digital Future Initiative and Culture Creates will help 20 CAPACOA members learn how to optimize their event webpages for discovery\, by regular art goers and new audiences alike. But how exactly does the Digital Discoverability Program work? What kind of resources do you need to take part? And most importantly\, what can you expect to get out of this program? \n  \nFor answers to all of these questions (and more!)\, please join us for an online information session on October 7\, at 2:00 pm EDT. \n  \nREGISTER \n  \nAfter registering\, you will receive a confirmation email with information to join the Zoom meeting. \n  \nPresenters:\nTammy Lee (CEO\, Culture Creates)\nFrédéric Julien (Director of Research and Development\, CAPACOA/LDFI)\nDessa Hayes (Digital Discoverability Consultant\, CAPACOA/LDFI) \n  \nAll of our presenters are bilingual. They are happy to answer your questions in either English or French. \n  \nLearn more about the Digital Discoverability Program. \n  \nThe Linked Digital Future Initiative is funded by the Government of Canada and by the Canada Council for the Arts.
URL:https://linkeddigitalfuture.ca/event/digital-discoverability-info-session-2022/
LOCATION:Zoom – Link will be emailed upon registering.
ATTACH;FMTTYPE=image/jpeg:https://linkeddigitalfuture.ca/wp-content/uploads/2022/09/Info-Session-LDFI-EN.jpg
END:VEVENT
END:VCALENDAR